BEGIN:VCALENDAR
VERSION:2.0
PRODID:-//Hiatus Brewing Company - ECPv5.16.0//NONSGML v1.0//EN
CALSCALE:GREGORIAN
METHOD:PUBLISH
X-WR-CALNAME:Hiatus Brewing Company
X-ORIGINAL-URL:http://www.hiatusbrewing.com
X-WR-CALDESC:Events for Hiatus Brewing Company
BEGIN:VTIMEZONE
TZID:UTC
BEGIN:STANDARD
TZOFFSETFROM:+0000
TZOFFSETTO:+0000
TZNAME:UTC
DTSTART:20210101T000000
END:STANDARD
END:VTIMEZONE
BEGIN:VEVENT
DTSTART;TZID=UTC:20210623T180000
DTEND;TZID=UTC:20210623T200000
DTSTAMP:20260419T200951
CREATED:20201124T203432Z
LAST-MODIFIED:20210531T191934Z
UID:408-1624471200-1624478400@www.hiatusbrewing.com
SUMMARY:Boards + Brews
DESCRIPTION:Join us for our latest Boards + Brews workshop with Hammer & Stain Ocala on 6/23/2021 at 6 pm. Workshop projects consist of 14″ or 18″ door hangers\, door tags\, or plank bottle openers. You’ll preselect stain and paint colors to create while you sip at Hiatus
URL:http://www.hiatusbrewing.com/event/boards-brews/
LOCATION:Hiatus Brewing Company\, 6230 SW Hwy 200\, Ocala\, FL\, 34476\, United States
ATTACH;FMTTYPE=image/jpeg:http://www.hiatusbrewing.com/wp-content/uploads/2020/11/hammer01.jpg
ORGANIZER;CN="Hiatus%20Brewing%20Company":MAILTO:www.hiatusbrewing.com
END:VEVENT
END:VCALENDAR