BEGIN:VCALENDAR
VERSION:2.0
PRODID:-//Hiatus Brewing Company - ECPv5.16.0//NONSGML v1.0//EN
CALSCALE:GREGORIAN
METHOD:PUBLISH
X-WR-CALNAME:Hiatus Brewing Company
X-ORIGINAL-URL:http://www.hiatusbrewing.com
X-WR-CALDESC:Events for Hiatus Brewing Company
BEGIN:VTIMEZONE
TZID:UTC
BEGIN:STANDARD
TZOFFSETFROM:+0000
TZOFFSETTO:+0000
TZNAME:UTC
DTSTART:20210101T000000
END:STANDARD
END:VTIMEZONE
BEGIN:VEVENT
DTSTART;TZID=UTC:20210605T150000
DTEND;TZID=UTC:20210605T190000
DTSTAMP:20260421T102158
CREATED:20210531T202831Z
LAST-MODIFIED:20210531T202831Z
UID:503-1622905200-1622919600@www.hiatusbrewing.com
SUMMARY:Belmont Stakes 2021 Watch Party
DESCRIPTION:Coverage of the 2021 Belmont Stakes begins at 3:00 pm. Stop by Hiatus and watch the final race of the triple crown and enjoy $4 pints of Paid Time Off all day.
URL:http://www.hiatusbrewing.com/event/belmont-stakes-2021-watch-party/
LOCATION:Hiatus Brewing Company\, 6230 SW Hwy 200\, Ocala\, FL\, 34476\, United States
ATTACH;FMTTYPE=image/jpeg:http://www.hiatusbrewing.com/wp-content/uploads/2021/05/horse.jpg
END:VEVENT
END:VCALENDAR